BEGIN:VCALENDAR
VERSION:2.0
CREATED:20260408T212727Z
PRODID:-//Betterware de Mexico\, S.A.P.I. de C.V./Equisolve Calendar v1.0//EN
METHOD:PUBLISH
BEGIN:VEVENT
UID:d45aa886ff8d91cc2186ec83bd95b448
DTSTAMP:20260425T150352Z
DTSTART:20260423T213000Z
DTEND:20260423T223000Z
SUMMARY:First Quarter 2026 Earnings Conference Call
DESCRIPTION:First Quarter 2026 Earnings Conference Call\nDate: Apr 23\, 2026 5:30 pm EDT\nWebcast: https://d1io3yog0oux5.cloudfront.net/_7c1e9ea6f92c8be9d71cba30b61b0eaa/betterware/files/Befra_1Q26_Audio.mp3
END:VEVENT
END:VCALENDAR
